BEGIN:VCALENDAR
VERSION:2.0
PRODID:-//Curt Landry Ministries - ECPv6.7.0//NONSGML v1.0//EN
CALSCALE:GREGORIAN
METHOD:PUBLISH
X-ORIGINAL-URL:https://www.curtlandry.com
X-WR-CALDESC:Events for Curt Landry Ministries
REFRESH-INTERVAL;VALUE=DURATION:PT1H
X-Robots-Tag:noindex
X-PUBLISHED-TTL:PT1H
BEGIN:VTIMEZONE
TZID:America/New_York
BEGIN:DAYLIGHT
TZOFFSETFROM:-0500
TZOFFSETTO:-0400
TZNAME:EDT
DTSTART:20260308T070000
END:DAYLIGHT
BEGIN:STANDARD
TZOFFSETFROM:-0400
TZOFFSETTO:-0500
TZNAME:EST
DTSTART:20261101T060000
END:STANDARD
END:VTIMEZONE
BEGIN:VEVENT
DTSTART;TZID=America/New_York:20260116T180000
DTEND;TZID=America/New_York:20260116T210000
DTSTAMP:20260420T091431
CREATED:20251119T150732Z
LAST-MODIFIED:20260108T214527Z
UID:10000625-1768586400-1768597200@www.curtlandry.com
SUMMARY:Shabbat on the Road | Carmel\, Indiana
DESCRIPTION:Join Rabbi Curt and his wife\, Christie\, in Carmel\, IN\, on January 16\, 2026\, 7 PM ET at The Tallison Hotel in Carmel\, Indiana. \nDid you know that honoring Shabbat releases blessings in your life? \n\nIt teaches kids and parents the importance of rest and time together.\nIt opens the door to great conversations about how your family is “set apart” for the Lord\nIt creates a spiritual foundation in the home\n\nWe want you to receive this gift of rest from the Lord! Join us Friday\, January 16\, for a special Shabbat service as Rabbi Curt Landry speaks about the blessings of One New Man (Ephesians 2:15-16) and the spiritual significance of Shabbat. \nLocation: The Tallison Hotel\n10210 Pennsylvania Pkwy\nCarmel\, Indiana 46280 \nGet more information and register here!
URL:https://www.curtlandry.com/event/shabbat-on-the-road-carmel-indiana/
LOCATION:The Tallison Hotel\, A Tribute Portfolio™ Hotel\, 10210 Pennsylvania Pkwy\,\, Carmel\, Indiana\, 46280
CATEGORIES:Special Events
ATTACH;FMTTYPE=image/jpeg:https://www.curtlandry.com/wp-content/uploads/2025/04/AdobeStock_261500332.jpg
END:VEVENT
END:VCALENDAR