BEGIN:VCALENDAR
VERSION:2.0
PRODID:-//Curt Landry Ministries - ECPv6.7.0//NONSGML v1.0//EN
CALSCALE:GREGORIAN
METHOD:PUBLISH
X-ORIGINAL-URL:https://www.curtlandry.com
X-WR-CALDESC:Events for Curt Landry Ministries
REFRESH-INTERVAL;VALUE=DURATION:PT1H
X-Robots-Tag:noindex
X-PUBLISHED-TTL:PT1H
BEGIN:VTIMEZONE
TZID:America/Chicago
BEGIN:DAYLIGHT
TZOFFSETFROM:-0600
TZOFFSETTO:-0500
TZNAME:CDT
DTSTART:20240310T080000
END:DAYLIGHT
BEGIN:STANDARD
TZOFFSETFROM:-0500
TZOFFSETTO:-0600
TZNAME:CST
DTSTART:20241103T070000
END:STANDARD
END:VTIMEZONE
BEGIN:VEVENT
DTSTART;TZID=America/Chicago:20241011T190000
DTEND;TZID=America/Chicago:20241011T190000
DTSTAMP:20260421T110854
CREATED:20240207T135655Z
LAST-MODIFIED:20241011T143123Z
UID:10000270-1728673200-1728673200@www.curtlandry.com
SUMMARY:Sanctify Your King-Priest Anointing | Yom Kippur 5785
DESCRIPTION:To be sanctified means the process of being set apart and made holy by God. It literally means “set apart for a purpose.”  \n5785 is the year of the King-Priest anointing. This Yom Kippur\, as we immerse into the water\, we are taking physical action to speak to the spiritual realm that we are willing to be set apart and purified for God’s calling on our lives.  \nThe process of sanctifying our King-Priest anointing leads to holiness\, cleaning out the old and making room for the new that God pours into us for the season ahead.  \nThis new anointing that God pours out promotes us in the spirit\, bringing us closer to Him and allowing us to experience supernatural encounters and empowerment.  \nWe are His earthen vessel to work through. So then\, this High Holy Day of Yom Kippur is about: \n\nRepentance—turning away from the things that keep us away from God and turning toward His face. \nAtonement—accepting the atoning work of Yeshua and trusting His blood speaks on our behalf\nSanctification—embracing the process of being set apart for God’s purposes to be made manifest in our lives\n\nJoin Rabbi Curt Landry as he leads you through a Yom Kippur message and immersion\, where the books of heaven were opened at Rosh Hashanah and sealed during Yom Kippur!   \n  \nTo listen to the full episodes of The Curt Landry Podcast \nListen on Apple Podcasts: https://apple.co/47ylIRB  \nListen on Spotify: https://spoti.fi/3TVpj9a \nListen and watch on YouTube: https://www.youtube.com/c/CurtLandryMinistries/videos \nMore Event Details\n· When: Friday\, October 11\, 2024\, at 7 PM CT in-person (7:30 PM CT online\, no registration required online)\n· Childcare: Available for children ages crawling to 5 years old.\n· Where: House of David\, 22500 South OK-125\, Fairland\, OK 74343\n· Immersion: Immersion included as part of the Yom Kippur service. More information about what to expect from immersion here.\n· Cost: $5 donation per sanctuary ticket to save your seat!
URL:https://www.curtlandry.com/event/yom-kippur-immersion-service-2024-5784/
LOCATION:OK
CATEGORIES:Special Events
ATTACH;FMTTYPE=image/jpeg:https://www.curtlandry.com/wp-content/uploads/2024/02/101024-Yom-Kippur.jpg
END:VEVENT
BEGIN:VEVENT
DTSTART;TZID=America/Chicago:20241003T150000
DTEND;TZID=America/Chicago:20241003T180000
DTSTAMP:20260421T110854
CREATED:20240817T012440Z
LAST-MODIFIED:20240821T192928Z
UID:10000294-1727967600-1727978400@www.curtlandry.com
SUMMARY:Fall Feast Fellowship 2024/5784
DESCRIPTION:Register Now! \nWhen: Thursday\, October 3\, 2024\, open house from 3 PM CT – 6 PM CT (in-person-only event)\n·         Where: A beautiful home on Grand Lake (30400 OK-125 #5\, Afton\, OK 74331)\n·         Cost: $33 (charcuterie board\, delicious finger foods\, and sweet treats) \n*Registration for this event is required.
URL:https://www.curtlandry.com/event/fall-feast-fellowship-2024-5784/
LOCATION:OK
CATEGORIES:Special Events
ATTACH;FMTTYPE=image/jpeg:https://www.curtlandry.com/wp-content/uploads/2024/08/we-the-creators-QVGVxz5SN5Y-unsplash-e1723853747130.jpg
END:VEVENT
BEGIN:VEVENT
DTSTART;TZID=America/Chicago:20241002T190000
DTEND;TZID=America/Chicago:20241002T190000
DTSTAMP:20260421T110854
CREATED:20240207T135338Z
LAST-MODIFIED:20241002T140442Z
UID:10000269-1727895600-1727895600@www.curtlandry.com
SUMMARY:Rosh Hashanah 5785/2024 | The Year of the King-Priest Anointing!
DESCRIPTION:As we prepare to enter the Hebrew year 5785 and come together for Rosh Hashanah\, the Lord is calling us into a season of grace\, perfection\, and new beginnings—a year when the King-Priest anointing will be activated in those ready to step into their divine calling. \nThe number 5785 carries a powerful prophetic significance: \n\n5 signifies grace\, and in this coming year\, we will experience a double portion—a double grace to fulfill the purposes God has placed on our lives.\n7 represents perfection\, a divine completion of what the Lord has begun in us.\n8 symbolizes new beginnings\, ushering in a fresh move of God in our lives\, ministries\, and communities.\n5 again\, emphasizing the grace to finish well and complete what has been started with excellence and divine favor.\n\n5784 was a Goliath year—a year of challenging and stretching. But through the trials\, God also revealed the Davids—those who are anointed and equipped to lead in this new season.  \nJoin Rabbi Curt Landry as he releases a prophetic word for the year 5785 and ushers in the new season\, activating the King-Priest anointing—what we need to lead the way God intended for “a time such as this!”    \nYou won’t want to miss the Fall Feast messages this year—starting with Rosh Hashanah 5785/2024–to position your heart for what is to come! \nTo listen to the full episodes of The Curt Landry Podcast \nListen on Apple Podcasts: https://apple.co/47ylIRB  \nListen on Spotify: https://spoti.fi/3TVpj9a  \n\n\nListen and watch on YouTube: https://www.youtube.com/c/CurtLandryMinistries/videos \n\n\n\n\n\n\n\n  \nRegister Now! \n· When: Wednesday\, October 2\, 2024\, at 7 PM CT in-person (7:30 PM CT online\, no registration required online)\n· Childcare: Available for children ages crawling to 5 years old.\n· Where: House of David\, 22500 South OK-125\, Fairland\, OK 74343\n· Cost: $5 donation per sanctuary ticket to save your seat! \n· Stay for the Fall Feast 5785 Fellowship Celebration on Thursday\, October 3! More information here. \n*Registration for this event is required.
URL:https://www.curtlandry.com/event/rosh-hashanah-celebration-service-2024-5784/
LOCATION:OK
CATEGORIES:Special Events
ATTACH;FMTTYPE=image/jpeg:https://www.curtlandry.com/wp-content/uploads/2024/02/5785-Rosh-Hashanah.jpg
END:VEVENT
BEGIN:VEVENT
DTSTART;TZID=America/Chicago:20240612T180000
DTEND;TZID=America/Chicago:20240612T180000
DTSTAMP:20260421T110854
CREATED:20240207T133745Z
LAST-MODIFIED:20240610T192003Z
UID:10000268-1718215200-1718215200@www.curtlandry.com
SUMMARY:Shavuot Immersion 2024/5784
DESCRIPTION:The Shavuot Immersion will be on Wednesday\, June 12th\, 2024 at 6 PM CT both in-person and online. \n\n**In-person immersion is included with your Shavuot registration.** \n \nIn-Person Registration for Shavuot 2024\n\n\nImmersion Instructions:\n\nRecommended to Bring… \n\n2 of Your Own Towels (Please be courteous and refrain from bringing hotel towels.)\nFlip-Flops or Sandals\nChange of clothes\n\n**IMPORTANT NOTE: Limited space is available to store your towels\, shoes\, and a quick change of clothes. Therefore\, small totes only are advised to hold your items. Please bring separate totes for men and women. \nImportant Things to Remember… \n\nCome dressed\, ready to immerse—We ask that you please only wear dark-colored clothing into the immersion pool… For modesty reasons\, we cannot allow swimsuits or light-colored clothing into the pool. Dark-colored T-shirts and leggings or swim trunks work great!\nYou will need to bring 2 of your own towels (Please be courteous and refrain from bringing hotel towels).\nShofars and other personal items are not allowed in the immersion room or pool.\nTurn off all cell phones\, please.\nBabies and toddlers are required to wear swim diapers in the pool.\nPlease remain in an atmosphere of worship at all times.\nFoot washing is available if necessary—For public health and safety\, absolutely NO open wounds are allowed in the pool.\nThere is NO handicapped access to the pool\, foot washing is available upon request.\n\nWhat to Expect Upon Arrival… \n\nOnce doors open\, you will be directed to the immersion room.\nBefore you enter the immersion room\, attendants will be present to take your small totes for ease of retrieval upon entering the dressing rooms after immersion.\nBe sure to save back 1 of your towels as you enter the immersion room. Please wrap your flip-flops or sandals in that towel to be placed on shelves.\nPlease notify the attendant if you will need foot washing instead of immersing\, there will be a prayer intercessor present in the room available for foot washing as needed.\nOut of courtesy to other guests\, we ask you to please be mindful of how long you spend in the pool.\nAs you leave the immersion pool you will collect your towels and flip-flops/sandals and then will be directed to the changing rooms where your tote will be located near the entrance of the changing rooms. Both Men’s and Women’s changing rooms are available.\nYou will then be directed back to the main parking lot.\n\nIf you have any questions or concerns\, please feel free to email us at info@curtlandry.com or call us at (918) 615-9466. \n(Note: We are not responsible for loss or damage to your personal belongings. The immersion pool is NOT handicap accessible.) \nAgain\, we thank you for signing up for the upcoming immersion at House of David | One New Man Embassy! We can’t wait to see you! \n  \n\n\nIn-Person Registration for Shavuot 2024
URL:https://www.curtlandry.com/event/shavuot-immersion-2024-5784/
LOCATION:OK
CATEGORIES:Special Events
ATTACH;FMTTYPE=image/jpeg:https://www.curtlandry.com/wp-content/uploads/2024/02/Shavuot-Immersion-2024-5784.jpg
END:VEVENT
BEGIN:VEVENT
DTSTART;TZID=America/Chicago:20240611T190000
DTEND;TZID=America/Chicago:20240611T190000
DTSTAMP:20260421T110854
CREATED:20240207T121811Z
LAST-MODIFIED:20240610T192157Z
UID:10000267-1718132400-1718132400@www.curtlandry.com
SUMMARY:Shavuot 5784/2024: Fresh Wind & New Fire
DESCRIPTION:Shavuot 5784/2024 is here! God is releasing the FRESH WIND and NEW FIRE of CREATION in YESHUA!  \nIt is time to step into divine instruction this Shavuot! Join Curt Landry Ministries as we meet together with the Lord during this anointed and appointed time in ONE ACCORD\, allowing the Lord to release a greater revelation of His will and renew our souls and strength as we wait for His glorious return!  \nRabbi Curt releases a prophetic word that will help YOU prepare for the promotion God has for you in this coming season.  \nKEY TAKEAWAYS…   \n\nYou must embrace the moment.\nYeshua is knocking at the door of your heart to let the Holy Spirit in.\nYou need to have an expecting heart for fresh wind and new fire.\nYou prepare for a gentle breeze and a mighty wind coming.\nThe Holy Spirit needs liberty to be the Holy Spirit without religious shackles.\nIt’s time for the fourth river to flow and take you into the fourth dimension.\n\nJoin Rabbi Curt Landry as he speaks a timely word that will empower and equip you to unlock your Kingdom destiny in the next season! \nDisclaimer: \nCurt Landry Ministries will never send you a direct message or comment asking for donations\, or\, request to move the conversation to Telegram or any other third-party application. Any and all donations are solely collected through our website\, https://www.curtlandry.com\, or\, through one of our YouTube fundraisers. \nTo listen to the full episodes of The Curt Landry Podcast \nListen on Apple Podcasts: https://apple.co/47ylIRB  \nListen on Spotify: https://spoti.fi/3TVpj9a  \nJoin this channel to get access to perks: /@curtlandryministries \n\n\nIn-Person Registration\n  \nREGISTRATION REQUIRED FOR IN-HOUSE GUESTS \nJoin us for Shavuot 2024 / 5784 — The Wind and Fire of New Creation! \nRegistration will be required for those attending on-site at House of David. \nThe Shavuot Celebration Service will begin in-house at 7:00PM CT with the livestream beginning at 7:30 PM CT on Tuesday\, June 11th\, 2024. \nClick here to register for our livestream\, and to download a FREE Shavuot Educational resource! \nThe Shavuot Immersion will be on Wednesday\, June 12th\, 2024 at 6:00PM CT. \nThe Wind and Fire of New Creation \nGod brought out of our Egypts at Passover. For the past 50 days\, we’ve counted the Omer\, asking the Lord to reveal the hidden things in our hearts.\nNow\, at Shavuot\, we step into the divine instruction that will prepare and equip us for the season ahead!\nThe Lord is releasing a fresh wind and a new fire as we embrace our identity in Him—a new creation! \n  \nIn-Person Registration
URL:https://www.curtlandry.com/event/shavuot-2024-5784/
LOCATION:OK
CATEGORIES:Special Events
ATTACH;FMTTYPE=image/jpeg:https://www.curtlandry.com/wp-content/uploads/2024/02/Shavuot-5784-Fresh-Wind-New-Fire.jpg
END:VEVENT
BEGIN:VEVENT
DTSTART;TZID=America/Chicago:20240422T194500
DTEND;TZID=America/Chicago:20240422T194500
DTSTAMP:20260421T110854
CREATED:20240120T195452Z
LAST-MODIFIED:20240422T223442Z
UID:10000003-1713815100-1713815100@www.curtlandry.com
SUMMARY:Passover Seder 2024/5784
DESCRIPTION:In-Person Registration is now closed! But you can still celebrate with us!\nDownload our free Haggadah Guide here and host your own Passover Seder. If you have questions or concerns regarding your in-person registration please contact us via our livechat\, or at (918) 615-9466.\n  \nThis Passover—5784/2024—is the year of DOUBLE DOORS! This means that God has set doors of destiny before you. It is time to go through God’s gates of glory for your purpose! \nJesus the Messiah—Yashua Ha’Mashaiach—said He is the door; He is the gate. \nOnly through Him can you Unlock Your Kingdom Destiny and enter your God-given purpose. God’s prophetic calendar has aligned for this year to be YOUR year of moving through the open doors set before you. \nAre you ready? \nJoin us for Passover 5784/2024 in-person or online and say “yes” as you walk through God’s doors of destiny. Align the year ahead with God and watch the King of Glory go before you and level any mountains that stand in your way. \nDon’t miss this appointed time to encounter the Father-Heart of God! \n  \nPlan Ahead\nIf you plan to join us at House of David in Fairland\, OK please note that registration will be required for those attending on-site at House of David. \n\nFriday\, April 19th: Shabbat Service at House of David\nSaturday\, April 20th: Passover Attendee Brunch (limited seating available)\nSunday\, April 21st: Passover Immersion\nMonday\, April 22nd: Passover Celebration and Seder\n\n  \nWhat to Expect\nWhen You Arrive\nAs you arrive on-site at House of David for a Curt Landry Ministries Passover\, you will be met by a member of our team who will welcome you\, pray with you\, and wash your hands. Doors open at 5:30 PM. \nAfter You Are Seated\nAt Curt Landry Ministries\, we’ve held Passover Seders with a variety of different speakers and sermons. Each gives a personal and prophetic message that witnesses to the hearts of all who attend. \nThe Beginning of the Passover Service\nWe will blow the shofars\, light candles\, and say a blessing. \nA Meal is Served\nWhile the Passover Seder itself is not a full meal\, it is a symbolic retelling of the Passover story\, from slavery to freedom. \nThere will\, however\, be a full meal BEFORE we go through the Passover Seder elements. The Standard Meal Option will be chicken with a salad\, a bed of rice and roasted carrots. The Alternative Meal Option will be a full-sized grilled chicken salad. Both meal options will also include a delicious dessert. \nGoing Through the Passover Seder Plate\nAs a parable\, the Passover Seder plate is symbolic. Curt Landry will walk you through the symbolism of each element. They each depict a beautiful element of life and the sweetness of Jesus that covers it all. \nWhat do the elements on the seder plate represent? Curt Landry will explain further during the Passover Seder\, but here is a sneak peek. \n\nThe egg—Reveals how the Lord is the beginning and the end.\nKarpas (green vegetable/parsley)—Represents new beginnings. Springtime is here!\nMaror (horseradish)—Helps us remember the bitterness of life\, which is covered by the sweetness of Jesus.\nCharoset (applesauce)—Recalls the need to embrace the sweetness of life and allow it to overcome the bitterness.\nZuror (lamb shank)—Represents the right arm of the Lord\, which is the strength\, justice\, and judge in our lives (Isaiah 52:10).  *Remember\, it is okay if you do not have a lamb shank.\nSalt Water—Reminds us that the Lord hears our cries and sees our tears through trials and tribulations.\nMatzah (unleavened bread)—Represents Yeshua—Jesus. It is typically striped\, pierced\, and without leaven. Leaven represents sin.\n\nWe look forward to seeing you at Passover 2024/5784. Welcome home! \n  \n  \nEvent Details\n\n\nMonday\, April 22nd: Passover Celebration and Seder\n\n\nDate: April 22nd\, 2024/5784\nTime:\nIn-Person: 6 PM CT (Doors open at 5:30)\nOnline: 7:45 PM CT\nWhere: House of David\nNote: Ticket registration includes a full meal.
URL:https://www.curtlandry.com/event/passover-2024-5784/
LOCATION:OK
CATEGORIES:Special Events
ATTACH;FMTTYPE=image/webp:https://www.curtlandry.com/wp-content/uploads/2024/01/240326_event_banner_passover_2024.webp
END:VEVENT
BEGIN:VEVENT
DTSTART;TZID=America/Chicago:20240421T140000
DTEND;TZID=America/Chicago:20240421T160000
DTSTAMP:20260421T110854
CREATED:20240207T141558Z
LAST-MODIFIED:20240417T161520Z
UID:10000276-1713708000-1713715200@www.curtlandry.com
SUMMARY:Passover Immersion 2024/5784
DESCRIPTION:  \nImmersion Instructions \n  \nThis Passover—5784/2024—is the year of DOUBLE DOORS! This means that God has set doors of destiny before you. It is time to go through God’s gates of glory for your purpose! \nJesus the Messiah—Yashua Ha’Mashaiach—said He is the door; He is the gate. \nOnly through Him can you Unlock Your Kingdom Destiny and enter your God-given purpose. God’s prophetic calendar has aligned for this year to be YOUR year of moving through the open doors set before you. \nAre you ready? \nJoin us for Passover 5784/2024 in-person or online and say “yes” as you walk through God’s doors of destiny. Align the year ahead with God and watch the King of Glory go before you and level any mountains that stand in your way. \nDon’t miss this appointed time to encounter the Father-Heart of God! \n  \nPlan Ahead\nIf you plan to join us at House of David in Fairland\, OK please note that registration will be required for those attending on-site at House of David. \n\nFriday\, April 19th: Shabbat Service at House of David\nSaturday\, April 20th: Passover Attendee Brunch (limited seating available)\nSunday\, April 21st: Passover Immersion\nMonday\, April 22nd: Passover Celebration and Seder\n\n  \nEvent Details\nSunday\, April 21st: Passover Immersion\n\n\nDate: April 21st\, 2024/5784\nTime: 2:00 PM CT\nWhere: House of David\nNote: Immersion registration is included with seder registration
URL:https://www.curtlandry.com/event/passover-immersion-2024-5784/
LOCATION:OK
CATEGORIES:Special Events
ATTACH;FMTTYPE=image/jpeg:https://www.curtlandry.com/wp-content/uploads/2024/02/20211027_174532.jpg
END:VEVENT
BEGIN:VEVENT
DTSTART;TZID=America/Chicago:20240420T093000
DTEND;TZID=America/Chicago:20240420T113000
DTSTAMP:20260421T110854
CREATED:20240315T181628Z
LAST-MODIFIED:20240416T224156Z
UID:10000281-1713605400-1713612600@www.curtlandry.com
SUMMARY:Passover Brunch 2024/5784
DESCRIPTION:Registration is now closed! If you have questions or concerns regarding your brunch registration please contact us via our livechat\, or at (918) 615-9466. \nPassover Attendees are invited to join us in-person for Passover Saturday Brunch and say “yes” as you walk through God’s doors of destiny. Align the year ahead with God and watch the King of Glory go before you and level any mountains that stand in your way. The seating is limited\, registration is required. \n“Yet I still belong to you; you hold my right hand. You guide me with your counsel\,\nleading me to a glorious destiny.” Psalm 73:23-24 NLT \nJoin the CLM family for a delightful time all together celebrating the work you are fulfilling around the world. \nSaturday\, April 20th: Passover Attendee Brunch (limited seating available)\nDate: April 20th\, 2024/5784\nTime: 9:30-11:30 AM\nWhere: Piguet’s Prime Time in Vinita\, OK \nThe Menu Includes: \n\nQuiche – Spinach-Gruyère\nEggs Benedict with Hollandaise Sauce\nHomemade Biscuits with Cream Gravy\nFrench Toast with fruit\nBeef homemade in-house cold cuts and cheese trays\nStrawberry\, Feta and Spinach Salad with Poppy Seed Dressing\nCrudities with Homemade Ranch Dressing\nHomemade Cinnamon Rolls\nTea\, Coffee\, Juice and Water\n\nTickets are $30 per person. \n 
URL:https://www.curtlandry.com/event/passover-brunch-2024-5784/
LOCATION:Piguet’s Prime Time\, 440626 E 230 Rd\, Vinita\, OK\, 74301\, United States
CATEGORIES:Special Events
ATTACH;FMTTYPE=image/webp:https://www.curtlandry.com/wp-content/uploads/2024/03/240318_event_passover_brunch_2024.webp
ORGANIZER;CN="Curt Landry Ministries":MAILTO:info@curtlandry.com
END:VEVENT
BEGIN:VEVENT
DTSTART;TZID=America/Chicago:20240412T190000
DTEND;TZID=America/Chicago:20240412T190000
DTSTAMP:20260421T110854
CREATED:20240220T232911Z
LAST-MODIFIED:20240329T235500Z
UID:10000278-1712948400-1712948400@www.curtlandry.com
SUMMARY:Special Guest: Apostle Chuck Pierce at House of David
DESCRIPTION:As we prepare our hearts for the Passover season of deliverance make plans to join us for Shabbat on Friday\, April 12th for a transformative prophetic word from Apostle Chuck Pierce. With special worship by the Impact Center Worship Team from Lawton\, OK.\n\nIn-person and LIVE online: 7:00 p.m. CT\n— \nAbout Chuck Pierce\n \nCharles D. “Chuck” Pierce leads an apostolic and prophetic ministry in Corinth\, Texas. He is President of Glory of Zion International\, Kingdom Harvest Alliance\, and Global Spheres Inc. These three ministries are housed at Global Spheres Center\, which also includes Beulah Acres and the Israel Prayer Garden. He continues to gather and mobilize the worshipping Triumphant Reserve throughout the world. The ministries located at Global Spheres Center participate in regional and national gatherings to develop new Kingdom paradigms. Dr. Pierce also serves as a key bridge between Jew and Gentile as the Lord raises up One New Man. He is known for his accurate prophetic gifting which helps direct nations\, cities\, churches\, and individuals in understanding the times and seasons in which we live. He has written numerous best-selling books\, and has a degree in Business from Texas A&M\, Master’s work in Cognitive Systems from the University of North Texas\, and a D. Min. from the Wagner Leadership Institute. \n  \n  \nLearn more about Chuck Pierce at and Glory of Zion: gloryofzion.org/chuck-pierce \nFollow Chuck Pierce on Facebook: facebook.com/chuckdpierce \n  \n 
URL:https://www.curtlandry.com/event/chuck-pierce-2024/
LOCATION:House of David\, 22500 S Hwy 125\, Fairland\, OK\, 74343\, United States
CATEGORIES:Special Events
ATTACH;FMTTYPE=image/jpeg:https://www.curtlandry.com/wp-content/uploads/2024/02/chuck-pierce.jpg
ORGANIZER;CN="Curt Landry Ministries":MAILTO:info@curtlandry.com
END:VEVENT
BEGIN:VEVENT
DTSTART;TZID=America/Chicago:20240331T110000
DTEND;TZID=America/Chicago:20240331T110000
DTSTAMP:20260421T110854
CREATED:20240207T140434Z
LAST-MODIFIED:20240326T042119Z
UID:10000273-1711882800-1711882800@www.curtlandry.com
SUMMARY:Resurrection Sunday Service 2024
DESCRIPTION:Join us for Resurrection Sunday 2024! There will be no registration required for this event. \nThe Resurrection Sunday Service will begin in-house at 11 AM CT and livestream online at 11:30 AM CT on Sunday\, March 31st\, 2024. \nMore details coming soon…
URL:https://www.curtlandry.com/event/resurrection-sunday-service-2024/
LOCATION:OK
CATEGORIES:Special Events
ATTACH;FMTTYPE=image/jpeg:https://www.curtlandry.com/wp-content/uploads/2024/02/AdobeStock_358220623.jpeg
END:VEVENT
BEGIN:VEVENT
DTSTART;TZID=America/Chicago:20240301T190000
DTEND;TZID=America/Chicago:20240301T190000
DTSTAMP:20260421T110854
CREATED:20240213T203313Z
LAST-MODIFIED:20240227T154304Z
UID:10000277-1709319600-1709319600@www.curtlandry.com
SUMMARY:Special Guest: Hananya Naftali at House of David
DESCRIPTION:Join us at House of David on Friday\, March 1st\, 2024 for special guest speaker Hananya Naftali!\nThe service will begin at 7 p.m. CT in-person at House of David\, and the livestream will begin at 7:30 p.m. CT online.\n— \nMEET HANANYA NAFTALI \n  \nExperience the Difference \n  \nHananya Naftali is a prominent Israeli speaker and influencer in the fight against Antisemitism\, terrorism\, and assault on the State of Israel. \nWith over 2 million followers across social media\, Hananya brings the truth about Israel to millions worldwide. \nHananya has been working for Prime Minister Netanyahu in his digital team for the past 6 years. \nHananya served in the Israeli army\, fought Hamas during the Gaza War in 2014\, treated Syrian wounded civilians as a combat medic\, and today he defends Israel in the international arena. \n  \nLearn more about Hananya at: hnaftali.com \nFollow Hananya on Facebook at: facebook.com/hnaftali  \n  \n 
URL:https://www.curtlandry.com/event/hananya-naftali-2024/
LOCATION:House of David\, 22500 S Hwy 125\, Fairland\, OK\, 74343\, United States
CATEGORIES:Special Events
ATTACH;FMTTYPE=image/jpeg:https://www.curtlandry.com/wp-content/uploads/2024/02/1.jpg
ORGANIZER;CN="Curt Landry Ministries":MAILTO:info@curtlandry.com
END:VEVENT
END:VCALENDAR